BEGIN:VCALENDAR
VERSION:2.0
PRODID:-//Toronto Humane Society - ECPv6.9.0//NONSGML v1.0//EN
CALSCALE:GREGORIAN
METHOD:PUBLISH
X-ORIGINAL-URL:https://www.torontohumanesociety.com
X-WR-CALDESC:Events for Toronto Humane Society
REFRESH-INTERVAL;VALUE=DURATION:PT1H
X-Robots-Tag:noindex
X-PUBLISHED-TTL:PT1H
BEGIN:VTIMEZONE
TZID:UTC
BEGIN:STANDARD
TZOFFSETFROM:+0000
TZOFFSETTO:+0000
TZNAME:UTC
DTSTART:20220101T000000
END:STANDARD
END:VTIMEZONE
BEGIN:VEVENT
DTSTART;VALUE=DATE:20220601
DTEND;VALUE=DATE:20220701
DTSTAMP:20260424T141305
CREATED:20220603T014613Z
LAST-MODIFIED:20220603T014643Z
UID:13446-1654041600-1656633599@www.torontohumanesociety.com
SUMMARY:The Great Canadian Giving Challenge
DESCRIPTION:Every donation given to us through CanadaHelps.org during the month of June will give us the chance to win an additional $20\,000.  \nWhat would we do with that money? Continue to support pets and their families in need. \nClick here to read more about how we would benefit from winning $20\,000 \nClick here to donate.
URL:https://www.torontohumanesociety.com/event/the-great-canadian-giving-challenge/
LOCATION:ON
ATTACH;FMTTYPE=image/png:https://www.torontohumanesociety.com/wp-content/uploads/2022/06/GCGC-1-mailchimp-banner.png
END:VEVENT
END:VCALENDAR