BEGIN:VCALENDAR
VERSION:2.0
PRODID:-//Toronto Humane Society - ECPv6.9.0//NONSGML v1.0//EN
CALSCALE:GREGORIAN
METHOD:PUBLISH
X-WR-CALNAME:Toronto Humane Society
X-ORIGINAL-URL:https://www.torontohumanesociety.com
X-WR-CALDESC:Events for Toronto Humane Society
REFRESH-INTERVAL;VALUE=DURATION:PT1H
X-Robots-Tag:noindex
X-PUBLISHED-TTL:PT1H
BEGIN:VTIMEZONE
TZID:UTC
BEGIN:STANDARD
TZOFFSETFROM:+0000
TZOFFSETTO:+0000
TZNAME:UTC
DTSTART:20220101T000000
END:STANDARD
END:VTIMEZONE
BEGIN:VEVENT
DTSTART;TZID=UTC:20220924T100000
DTEND;TZID=UTC:20220924T120000
DTSTAMP:20260419T180729
CREATED:20220912T215653Z
LAST-MODIFIED:20220912T215830Z
UID:13971-1664013600-1664020800@www.torontohumanesociety.com
SUMMARY:Waggle in High Park with Toronto Humane Society
DESCRIPTION:Bring your pup and join us and Cinnaholic HighPark on September 24th for Waggle in the Park! Enjoy free coffee\, chat with a Toronto Humane Society representative\, and join us on a group walk with dogs around High Park. \nPlus\, purchase a waggle roll and all the proceeds will go to Toronto Humane Society. What’s a waggle roll? It’s a cinnamon roll with cream cheese frosting\, a scoop of cookie dough divided into three\, and an Oreo Cookie to top it off. YUM! \nNo need to RSVP. We can’t wait to see you there! \nDate: September 24\, 2022 \nTime: 10am-12pm\, walk starts at 11am (approx. 30-40min walk) \nLocation: Cinnaholic High Park\, 2190 Bloor Street West\, Toronto\, ON M6S 1N3CA
URL:https://www.torontohumanesociety.com/event/waggle-in-high-park-with-toronto-humane-society/
LOCATION:Cinnaholic High Park\, 2190 Bloor Street West\, Toronto\, ON\, M6S 1N3\, Canada
ATTACH;FMTTYPE=image/png:https://www.torontohumanesociety.com/wp-content/uploads/2022/09/WAGGLE-IN-HIGH-PARK-Twitter-Post.png
END:VEVENT
END:VCALENDAR