BEGIN:VCALENDAR
VERSION:2.0
PRODID:-//Toronto Humane Society - ECPv6.9.0//NONSGML v1.0//EN
CALSCALE:GREGORIAN
METHOD:PUBLISH
X-ORIGINAL-URL:https://www.torontohumanesociety.com
X-WR-CALDESC:Events for Toronto Humane Society
REFRESH-INTERVAL;VALUE=DURATION:PT1H
X-Robots-Tag:noindex
X-PUBLISHED-TTL:PT1H
BEGIN:VTIMEZONE
TZID:America/Toronto
BEGIN:DAYLIGHT
TZOFFSETFROM:-0500
TZOFFSETTO:-0400
TZNAME:EDT
DTSTART:20240310T070000
END:DAYLIGHT
BEGIN:STANDARD
TZOFFSETFROM:-0400
TZOFFSETTO:-0500
TZNAME:EST
DTSTART:20241103T060000
END:STANDARD
END:VTIMEZONE
BEGIN:VEVENT
DTSTART;VALUE=DATE:20240520
DTEND;VALUE=DATE:20240521
DTSTAMP:20260422T081235
CREATED:20240514T131558Z
LAST-MODIFIED:20240514T131558Z
UID:17219-1716163200-1716249599@www.torontohumanesociety.com
SUMMARY:Victoria Day Closure
DESCRIPTION:Please note that our Adoption and Rehoming services\, Pet Food Bank\, and Public Veterinary Services are closed on Monday\, May 20th for the Victoria Day holiday. Regular service will resume on Tuesday. We apologize for any inconvenience in advance. Thank you for your cooperation. \nIf you are interested in adopting an animal\, please click here to view all animals available for adoption. \nIf you’d like to book a vet appointment\, please click here to book your appointment online.
URL:https://www.torontohumanesociety.com/event/victoria-day-closure/
LOCATION:ON
END:VEVENT
END:VCALENDAR