BEGIN:VCALENDAR
VERSION:2.0
PRODID:-//Toronto Humane Society - ECPv6.9.0//NONSGML v1.0//EN
CALSCALE:GREGORIAN
METHOD:PUBLISH
X-ORIGINAL-URL:https://www.torontohumanesociety.com
X-WR-CALDESC:Events for Toronto Humane Society
REFRESH-INTERVAL;VALUE=DURATION:PT1H
X-Robots-Tag:noindex
X-PUBLISHED-TTL:PT1H
BEGIN:VTIMEZONE
TZID:America/Toronto
BEGIN:DAYLIGHT
TZOFFSETFROM:-0500
TZOFFSETTO:-0400
TZNAME:EDT
DTSTART:20240310T070000
END:DAYLIGHT
BEGIN:STANDARD
TZOFFSETFROM:-0400
TZOFFSETTO:-0500
TZNAME:EST
DTSTART:20241103T060000
END:STANDARD
END:VTIMEZONE
BEGIN:VEVENT
DTSTART;VALUE=DATE:20240615
DTEND;VALUE=DATE:20240617
DTSTAMP:20260424T141228
CREATED:20240617T113923Z
LAST-MODIFIED:20240617T113923Z
UID:17332-1718409600-1718582399@www.torontohumanesociety.com
SUMMARY:Adoption and Animal Services are Closed
DESCRIPTION:Please note that our adoption and animal services are closed this weekend. If you are interested in adopting a pet\, please click here to see all animals waiting for forever homes. \nThank you for your understanding.
URL:https://www.torontohumanesociety.com/event/adoption-and-animal-services-are-closed/
LOCATION:ON
END:VEVENT
END:VCALENDAR