BEGIN:VCALENDAR
VERSION:2.0
PRODID:-//Toronto Humane Society - ECPv6.9.0//NONSGML v1.0//EN
CALSCALE:GREGORIAN
METHOD:PUBLISH
X-WR-CALNAME:Toronto Humane Society
X-ORIGINAL-URL:https://www.torontohumanesociety.com
X-WR-CALDESC:Events for Toronto Humane Society
REFRESH-INTERVAL;VALUE=DURATION:PT1H
X-Robots-Tag:noindex
X-PUBLISHED-TTL:PT1H
BEGIN:VTIMEZONE
TZID:America/Toronto
BEGIN:DAYLIGHT
TZOFFSETFROM:-0500
TZOFFSETTO:-0400
TZNAME:EDT
DTSTART:20240310T070000
END:DAYLIGHT
BEGIN:STANDARD
TZOFFSETFROM:-0400
TZOFFSETTO:-0500
TZNAME:EST
DTSTART:20241103T060000
END:STANDARD
END:VTIMEZONE
BEGIN:VEVENT
DTSTART;VALUE=DATE:20240701
DTEND;VALUE=DATE:20240702
DTSTAMP:20260424T191156
CREATED:20240610T185509Z
LAST-MODIFIED:20240610T185509Z
UID:17314-1719792000-1719878399@www.torontohumanesociety.com
SUMMARY:TNR Service Is Closed
DESCRIPTION:Please note that our Trap-Neuter-Return (TNR) service is closed today. On the day prior to a closure all TNR cats must arrive before 10 AM.
URL:https://www.torontohumanesociety.com/event/tnr-service-is-closed-3/
LOCATION:Toronto Humane Society\, 11 River Street\, Toronto\, ON\, M5A 4C2\, Canada
END:VEVENT
BEGIN:VEVENT
DTSTART;VALUE=DATE:20240701
DTEND;VALUE=DATE:20240702
DTSTAMP:20260424T191156
CREATED:20240624T153609Z
LAST-MODIFIED:20240624T153609Z
UID:17366-1719792000-1719878399@www.torontohumanesociety.com
SUMMARY:Canada Day Closure
DESCRIPTION:Please note that our Adoption and Rehoming services\, Pet Food Bank\, and Public Veterinary Services are closed on Monday\, July 1st for Canada Day. Regular service will resume on Tuesday. We apologize for any inconvenience in advance. Thank you for your cooperation. \nIf you are interested in adopting an animal\, please click here to view all animals available for adoption. \nIf you’d like to book a vet appointment\, please click here to book your appointment online.
URL:https://www.torontohumanesociety.com/event/canada-day-closure/
LOCATION:Toronto Humane Society\, 11 River Street\, Toronto\, ON\, M5A 4C2\, Canada
END:VEVENT
END:VCALENDAR