BEGIN:VCALENDAR
VERSION:2.0
PRODID:-//Toronto Humane Society - ECPv6.9.0//NONSGML v1.0//EN
CALSCALE:GREGORIAN
METHOD:PUBLISH
X-WR-CALNAME:Toronto Humane Society
X-ORIGINAL-URL:https://www.torontohumanesociety.com
X-WR-CALDESC:Events for Toronto Humane Society
REFRESH-INTERVAL;VALUE=DURATION:PT1H
X-Robots-Tag:noindex
X-PUBLISHED-TTL:PT1H
BEGIN:VTIMEZONE
TZID:America/Toronto
BEGIN:DAYLIGHT
TZOFFSETFROM:-0500
TZOFFSETTO:-0400
TZNAME:EDT
DTSTART:20250309T070000
END:DAYLIGHT
BEGIN:STANDARD
TZOFFSETFROM:-0400
TZOFFSETTO:-0500
TZNAME:EST
DTSTART:20251102T060000
END:STANDARD
END:VTIMEZONE
BEGIN:VEVENT
DTSTART;TZID=America/Toronto:20250122T090000
DTEND;TZID=America/Toronto:20250122T120000
DTSTAMP:20260425T093936
CREATED:20250115T212445Z
LAST-MODIFIED:20250121T172102Z
UID:18372-1737536400-1737547200@www.torontohumanesociety.com
SUMMARY:Community Day-CANCELLED
DESCRIPTION:Due to extreme cold weather\, we have cancelled our planned Community Day event. Please visit our foodbank located in the lobby if you require food. Our next scheduled Community Day is Wednesday\, February 12th from 9am – 12pm. Thank you for your understanding. \n 
URL:https://www.torontohumanesociety.com/event/community-day-26/
LOCATION:Toronto Humane Society\, 11 River Street\, Toronto\, ON\, M5A 4C2\, Canada
ATTACH;FMTTYPE=image/jpeg:https://www.torontohumanesociety.com/wp-content/uploads/2024/05/IMG_2918-scaled.jpg
END:VEVENT
END:VCALENDAR