BEGIN:VCALENDAR
VERSION:2.0
PRODID:-//Toronto Humane Society - ECPv6.9.0//NONSGML v1.0//EN
CALSCALE:GREGORIAN
METHOD:PUBLISH
X-WR-CALNAME:Toronto Humane Society
X-ORIGINAL-URL:https://www.torontohumanesociety.com
X-WR-CALDESC:Events for Toronto Humane Society
REFRESH-INTERVAL;VALUE=DURATION:PT1H
X-Robots-Tag:noindex
X-PUBLISHED-TTL:PT1H
BEGIN:VTIMEZONE
TZID:America/Toronto
BEGIN:DAYLIGHT
TZOFFSETFROM:-0500
TZOFFSETTO:-0400
TZNAME:EDT
DTSTART:20230312T070000
END:DAYLIGHT
BEGIN:STANDARD
TZOFFSETFROM:-0400
TZOFFSETTO:-0500
TZNAME:EST
DTSTART:20231105T060000
END:STANDARD
END:VTIMEZONE
BEGIN:VEVENT
DTSTART;VALUE=DATE:20231001
DTEND;VALUE=DATE:20231101
DTSTAMP:20260423T044203
CREATED:20230912T190750Z
LAST-MODIFIED:20230912T190750Z
UID:15931-1696118400-1698796799@www.torontohumanesociety.com
SUMMARY:TSC Toronto Waterfront Marathon - Virtual
DESCRIPTION:Dust off your sneakers for the virtual Toronto Waterfront Marathon. Join our team using the referral link and Toronto Humane Society receives $5.00 for each new registrant.   \nWhen registering\, be sure to select Toronto Humane Society as your organization of choice. 
URL:https://www.torontohumanesociety.com/event/tsc-toronto-waterfront-marathon-virtual/
LOCATION:ON
CATEGORIES:Events
ATTACH;FMTTYPE=image/png:https://www.torontohumanesociety.com/wp-content/uploads/2023/09/TCS-Waterfront-Marathon.png
END:VEVENT
BEGIN:VEVENT
DTSTART;TZID=America/Toronto:20231012T110000
DTEND;TZID=America/Toronto:20231012T150000
DTSTAMP:20260423T044203
CREATED:20230913T140720Z
LAST-MODIFIED:20230913T140720Z
UID:15951-1697108400-1697122800@www.torontohumanesociety.com
SUMMARY:Community Day
DESCRIPTION:If you are in need of pet food or pet supplies\, please visit us at 11 River Street for our Community Day event.
URL:https://www.torontohumanesociety.com/event/community-day-10/
LOCATION:Toronto Humane Society\, 11 River Street\, Toronto\, ON\, M5A 4C2\, Canada
CATEGORIES:Events
ATTACH;FMTTYPE=image/png:https://www.torontohumanesociety.com/wp-content/uploads/2023/09/Community-Day-October-12.png
END:VEVENT
BEGIN:VEVENT
DTSTART;VALUE=DATE:20231015
DTEND;VALUE=DATE:20231016
DTSTAMP:20260423T044203
CREATED:20230912T190813Z
LAST-MODIFIED:20230912T190813Z
UID:15930-1697328000-1697414399@www.torontohumanesociety.com
SUMMARY:TCS Toronto Waterfront Marathon
DESCRIPTION:Dust off your sneakers for the Toronto Waterfront Marathon.  Join our team using the referral link and Toronto Humane Society receives $5.00 for each new registrant.   \nWhen registering\, be sure to select Toronto Humane Society as your organization of choice. 
URL:https://www.torontohumanesociety.com/event/tcs-toronto-waterfront-marathon-2/
LOCATION:ON
CATEGORIES:Events
ATTACH;FMTTYPE=image/png:https://www.torontohumanesociety.com/wp-content/uploads/2023/09/TCS-Waterfront-Marathon.png
END:VEVENT
END:VCALENDAR