BEGIN:VCALENDAR
VERSION:2.0
PRODID:-//Toronto Humane Society - ECPv6.9.0//NONSGML v1.0//EN
CALSCALE:GREGORIAN
METHOD:PUBLISH
X-WR-CALNAME:Toronto Humane Society
X-ORIGINAL-URL:https://www.torontohumanesociety.com
X-WR-CALDESC:Events for Toronto Humane Society
REFRESH-INTERVAL;VALUE=DURATION:PT1H
X-Robots-Tag:noindex
X-PUBLISHED-TTL:PT1H
BEGIN:VTIMEZONE
TZID:America/Toronto
BEGIN:DAYLIGHT
TZOFFSETFROM:-0500
TZOFFSETTO:-0400
TZNAME:EDT
DTSTART:20230312T070000
END:DAYLIGHT
BEGIN:STANDARD
TZOFFSETFROM:-0400
TZOFFSETTO:-0500
TZNAME:EST
DTSTART:20231105T060000
END:STANDARD
END:VTIMEZONE
BEGIN:VEVENT
DTSTART;TZID=America/Toronto:20231109T110000
DTEND;TZID=America/Toronto:20231109T150000
DTSTAMP:20260422T063228
CREATED:20231103T144446Z
LAST-MODIFIED:20231103T144446Z
UID:16268-1699527600-1699542000@www.torontohumanesociety.com
SUMMARY:Community Day
DESCRIPTION:If you are in need of dry dog food or pet supplies\, please visit us at 11 River Street for our Community Day event.
URL:https://www.torontohumanesociety.com/event/community-day-11/
LOCATION:Toronto Humane Society\, 11 River Street\, Toronto\, ON\, M5A 4C2\, Canada
CATEGORIES:Events
ATTACH;FMTTYPE=image/png:https://www.torontohumanesociety.com/wp-content/uploads/2023/11/Community-Day-Banner.png
END:VEVENT
BEGIN:VEVENT
DTSTART;VALUE=DATE:20231128
DTEND;VALUE=DATE:20231129
DTSTAMP:20260422T063228
CREATED:20231115T152538Z
LAST-MODIFIED:20231115T152538Z
UID:16323-1701129600-1701215999@www.torontohumanesociety.com
SUMMARY:Giving Tuesday
DESCRIPTION:By supporting Toronto Humane Society this Giving Tuesday\, your donation will help improve the lives of animals while they are on their journey of finding forever homes – for some pets\, this means providing them with life-saving medical care\, providing them with shelter and enrichment\, helping them gain confidence through training\, and more. \nVisit this link to donate in our name today.
URL:https://www.torontohumanesociety.com/event/giving-tuesday-4/
LOCATION:ON
CATEGORIES:Events
ATTACH;FMTTYPE=image/png:https://www.torontohumanesociety.com/wp-content/uploads/2023/11/Giving-Tuesday-Banner.png
END:VEVENT
BEGIN:VEVENT
DTSTART;VALUE=DATE:20231129
DTEND;VALUE=DATE:20231130
DTSTAMP:20260422T063228
CREATED:20231024T165042Z
LAST-MODIFIED:20231024T165042Z
UID:16226-1701216000-1701302399@www.torontohumanesociety.com
SUMMARY:Holiday 50/50 Second Early Bird Prize Winner
DESCRIPTION:Time for a new winner! Will you be the lucky one to win an extra $500? Find out when the winner gets announced at 10:00 a.m.! Keep checking our lotto website for an update on our final jackpot prize amount.
URL:https://www.torontohumanesociety.com/event/holiday-50-50-second-early-bird-prize-winner/
LOCATION:ON
CATEGORIES:Events
END:VEVENT
END:VCALENDAR