BEGIN:VCALENDAR
VERSION:2.0
PRODID:-//Toronto Humane Society - ECPv6.9.0//NONSGML v1.0//EN
CALSCALE:GREGORIAN
METHOD:PUBLISH
X-WR-CALNAME:Toronto Humane Society
X-ORIGINAL-URL:https://www.torontohumanesociety.com
X-WR-CALDESC:Events for Toronto Humane Society
REFRESH-INTERVAL;VALUE=DURATION:PT1H
X-Robots-Tag:noindex
X-PUBLISHED-TTL:PT1H
BEGIN:VTIMEZONE
TZID:UTC
BEGIN:STANDARD
TZOFFSETFROM:+0000
TZOFFSETTO:+0000
TZNAME:UTC
DTSTART:20230101T000000
END:STANDARD
END:VTIMEZONE
BEGIN:VEVENT
DTSTART;TZID=UTC:20230812T090000
DTEND;TZID=UTC:20230812T160000
DTSTAMP:20260421T162850
CREATED:20230621T003906Z
LAST-MODIFIED:20230707T163313Z
UID:15519-1691830800-1691856000@www.torontohumanesociety.com
SUMMARY:Paws in the Park
DESCRIPTION:Toronto Humane Society’s largest event\, Paws in the Park®\, is BACK at Woodbine Park on Saturday\, August 12\, 2023! \nPaws in the Park® has been a staple in our community for years\, and we can’t wait to welcome you back! \nPaws in the Park® provides a significant portion of our annual operating costs and helps us keep our doors open for the next animals in desperate need of our assistance. Help us raise money and continue improving the lives of animals. Register to start your own personalized fundraising page and share it with all your friends and families. \nOn top of supporting a great organization and enjoying a summer day outside with family and friends\, we’ve got fantastic prizes and great food and entertainment in store for all of our participants and visitors! \nRegister now for a fun-filled unforgettable day!
URL:https://www.torontohumanesociety.com/event/paws-in-the-park-2/
LOCATION:Woodbine Park\, 1695 Queen St E\, Toronto\, Ontario\, M4L 1G7\, Canada
CATEGORIES:Events
ATTACH;FMTTYPE=image/png:https://www.torontohumanesociety.com/wp-content/uploads/2023/06/Paws-in-the-Park-Banner-2.png
END:VEVENT
END:VCALENDAR