BEGIN:VCALENDAR
VERSION:2.0
PRODID:-//Toronto Humane Society - ECPv6.9.0//NONSGML v1.0//EN
CALSCALE:GREGORIAN
METHOD:PUBLISH
X-ORIGINAL-URL:https://www.torontohumanesociety.com
X-WR-CALDESC:Events for Toronto Humane Society
REFRESH-INTERVAL;VALUE=DURATION:PT1H
X-Robots-Tag:noindex
X-PUBLISHED-TTL:PT1H
BEGIN:VTIMEZONE
TZID:America/Toronto
BEGIN:DAYLIGHT
TZOFFSETFROM:-0500
TZOFFSETTO:-0400
TZNAME:EDT
DTSTART:20230312T070000
END:DAYLIGHT
BEGIN:STANDARD
TZOFFSETFROM:-0400
TZOFFSETTO:-0500
TZNAME:EST
DTSTART:20231105T060000
END:STANDARD
END:VTIMEZONE
BEGIN:VEVENT
DTSTART;TZID=America/Toronto:20231207T110000
DTEND;TZID=America/Toronto:20231207T140000
DTSTAMP:20260422T064851
CREATED:20231205T190022Z
LAST-MODIFIED:20231205T190022Z
UID:16517-1701946800-1701957600@www.torontohumanesociety.com
SUMMARY:Community Day
DESCRIPTION:If you are in need of pet food (dog and cat)\, cat litter\, and pet accessories\, please visit us at 11 River Street for our Community Day event.
URL:https://www.torontohumanesociety.com/event/community-day-12/
LOCATION:Toronto Humane Society\, 11 River Street\, Toronto\, ON\, M5A 4C2\, Canada
CATEGORIES:Events
ATTACH;FMTTYPE=image/png:https://www.torontohumanesociety.com/wp-content/uploads/2023/12/Community-Day-Banner-2.png
END:VEVENT
END:VCALENDAR