BEGIN:VCALENDAR
VERSION:2.0
PRODID:-//Toronto Humane Society - ECPv6.9.0//NONSGML v1.0//EN
CALSCALE:GREGORIAN
METHOD:PUBLISH
X-WR-CALNAME:Toronto Humane Society
X-ORIGINAL-URL:https://www.torontohumanesociety.com
X-WR-CALDESC:Events for Toronto Humane Society
REFRESH-INTERVAL;VALUE=DURATION:PT1H
X-Robots-Tag:noindex
X-PUBLISHED-TTL:PT1H
BEGIN:VTIMEZONE
TZID:UTC
BEGIN:STANDARD
TZOFFSETFROM:+0000
TZOFFSETTO:+0000
TZNAME:UTC
DTSTART:20220101T000000
END:STANDARD
END:VTIMEZONE
BEGIN:VEVENT
DTSTART;VALUE=DATE:20220411
DTEND;VALUE=DATE:20220503
DTSTAMP:20260424T091219
CREATED:20220413T061458Z
LAST-MODIFIED:20220413T061458Z
UID:13195-1649635200-1651535999@www.torontohumanesociety.com
SUMMARY:Visit The Spring in Bloom E-Store
DESCRIPTION:Share the season of spring with those who need it most\nAfter a long and difficult winter\, spring has come as a relief for everyone. Especially for homeless animals. Help us lift their spirits by sending them something special to start the season off right. Send them a spring gift from our In Bloom Spring Market! \nHere\, you’ll find a number of gifts to send to our animals. From floral bouquets\, catnip arrangements\, and treat assortments\, these locally-made gifts will lift the spirits and warm the hearts of all animals in need of a home.
URL:https://www.torontohumanesociety.com/event/visit-the-spring-in-bloom-e-store/
LOCATION:ON
CATEGORIES:Events
ATTACH;FMTTYPE=image/png:https://www.torontohumanesociety.com/wp-content/uploads/2022/04/Untitled-design-3.png
END:VEVENT
BEGIN:VEVENT
DTSTART;VALUE=DATE:20220513
DTEND;VALUE=DATE:20220514
DTSTAMP:20260424T091219
CREATED:20220428T223107Z
LAST-MODIFIED:20220502T171735Z
UID:13276-1652400000-1652486399@www.torontohumanesociety.com
SUMMARY:Onsite Adoptions are Closed
DESCRIPTION:Onsite adoptions are closed today. If you’re interested in adopting\, please see the animals looking for forever homes here. \nRegular service will resume on Saturday\, May 14th\, 2022.
URL:https://www.torontohumanesociety.com/event/onsite-adoptions-are-closed/
LOCATION:ON
END:VEVENT
BEGIN:VEVENT
DTSTART;VALUE=DATE:20220521
DTEND;VALUE=DATE:20220523
DTSTAMP:20260424T091219
CREATED:20220518T215655Z
LAST-MODIFIED:20220518T215655Z
UID:13350-1653091200-1653263999@www.torontohumanesociety.com
SUMMARY:Animal Viewing and Animal Intake Services are Closed
DESCRIPTION:Please note that adoption\, animal viewing and intake will be closed from Saturday\, May 21 to Monday\, May 23 for the holiday. \nIf you’re interested in adopting\, please click here to see the animals in our care looking for their forever homes.
URL:https://www.torontohumanesociety.com/event/animal-viewing-and-animal-intake-services-are-closed/
LOCATION:ON
END:VEVENT
BEGIN:VEVENT
DTSTART;VALUE=DATE:20220523
DTEND;VALUE=DATE:20220524
DTSTAMP:20260424T091219
CREATED:20220518T214520Z
LAST-MODIFIED:20220518T215553Z
UID:13349-1653264000-1653350399@www.torontohumanesociety.com
SUMMARY:On-Site Services are Closed
DESCRIPTION:Please note that adoption\, animal viewing\, and animal intake\, as well as all public veterinary services (including TNR)\, and the call center will be closed today. \nIf you’re interested in adopting\, please click here to see the animals in our care looking for their forever homes. \nIf you are experiencing an emergency for veterinary care\, please call your nearest veterinary emergency clinic. Please see here for a list of local veterinary emergency hospitals.
URL:https://www.torontohumanesociety.com/event/on-site-services-are-closed/
LOCATION:ON
END:VEVENT
BEGIN:VEVENT
DTSTART;VALUE=DATE:20220528
DTEND;VALUE=DATE:20220530
DTSTAMP:20260424T091219
CREATED:20220525T194910Z
LAST-MODIFIED:20220525T194959Z
UID:13374-1653696000-1653868799@www.torontohumanesociety.com
SUMMARY:Doors Open TO
DESCRIPTION:Toronto Humane Society is participating in Doors Open Toronto! This is a city-wide initiative that encourages you to rediscover the city of Toronto while celebrating 100+ sites of architectural\, cultural\, and social significance.   \nJoin us on Saturday\, May 28th and Sunday\, May 29th from 10:00am – 5:00pm (last tour entry 4:30pm) for a guided tour around the building – no appointments necessary! Have your questions answered\, take cute photos of adoptable animals\, and learn about what goes on behind the scenes.   \nFree Public Training Activities\nTake advantage of our free Public Training classes and demonstrations during the weekend. Pets (including dogs) cannot enter the building for the tour\, but pet parents are encouraged to bring their dogs to attend a free training activity that will take place outside.  \nTraining classes will be limited to 6 participants per class on a first come\, first serve basis and signup sheets will be available at our information table.   \n Agenda – Saturday\, May 28th and Sunday\, May 29th   \n10:00am to 10:30am – Free Intro to Clicker Training Class – Park 3   \n11:30am to 12:30am – Rally Obedience Demo – Park 1   \n12:30am to 1:30pm – Free Intro to Rally Obedience Class – Park 1   \n2:30pm to 3:30pm – Free Intro to Clicker Training Class – Park 3   \n3:30pm to 4:30pm – Free Intro to Tricks Training Class – Park 3   \nWhile you wait for the tour to begin\, browse our retail section for a new shirt or sweater\, or head to our welcome table for more information about Toronto Humane Society and make a lifesaving donation.   \n\nPlease note\, to keep our staff\, volunteers\, animals\, and visitors safe\, we will require all event attendees to show proof of vaccination to enter our facility\, as well as remain masked while in the building. Tours will be limited to 6 people per group with 3 tour times per hour\, on a first come first serve basis. Training classes will be limited to 6 people per class on a first come first serve basis.   
URL:https://www.torontohumanesociety.com/event/doors-open-to/
LOCATION:ON
CATEGORIES:Events
ATTACH;FMTTYPE=image/jpeg:https://www.torontohumanesociety.com/wp-content/uploads/2022/05/ths-building.jpg
END:VEVENT
END:VCALENDAR