BEGIN:VCALENDAR
VERSION:2.0
PRODID:-//Toronto Humane Society - ECPv6.9.0//NONSGML v1.0//EN
CALSCALE:GREGORIAN
METHOD:PUBLISH
X-ORIGINAL-URL:https://www.torontohumanesociety.com
X-WR-CALDESC:Events for Toronto Humane Society
REFRESH-INTERVAL;VALUE=DURATION:PT1H
X-Robots-Tag:noindex
X-PUBLISHED-TTL:PT1H
BEGIN:VTIMEZONE
TZID:America/Toronto
BEGIN:DAYLIGHT
TZOFFSETFROM:-0500
TZOFFSETTO:-0400
TZNAME:EDT
DTSTART:20240310T070000
END:DAYLIGHT
BEGIN:STANDARD
TZOFFSETFROM:-0400
TZOFFSETTO:-0500
TZNAME:EST
DTSTART:20241103T060000
END:STANDARD
END:VTIMEZONE
BEGIN:VEVENT
DTSTART;TZID=America/Toronto:20240601T080000
DTEND;TZID=America/Toronto:20240601T170000
DTSTAMP:20260424T123913
CREATED:20240603T184507Z
LAST-MODIFIED:20240603T184507Z
UID:17288-1717228800-1717261200@www.torontohumanesociety.com
SUMMARY:Great Canadian Giving Challenge
DESCRIPTION:We want to ensure that every pet remains in a loving home where they belong. One of our core initiatives is helping our community members keep their beloved animals with their families\, preventing them from ever needing to enter a shelter. \nThis month\, we have an incredible opportunity to further this mission through the Great Canadian Giving Challenge. From now until June 30th\, every dollar you donate gives us a chance to win one of two $10\,000 grand prizes. The prize and funds raised during the challenge will directly support our vital programs designed to keep pets out of shelters and in the homes where they are cherished. \nAnd that is not all. This year\, you could win too! Every $10 donation gives you an entry to win one of over 30 great prizes. You win\, they win\, we win\, everybody wins when you donate to help animals and families in our community. \nJoin us in the Great Canadian Giving Challenge and make a difference by donating today!
URL:https://www.torontohumanesociety.com/event/great-canadian-giving-challenge/
LOCATION:ON
ATTACH;FMTTYPE=image/png:https://www.torontohumanesociety.com/wp-content/uploads/2024/06/Great-Canadian-Giving-Challenge.png
END:VEVENT
BEGIN:VEVENT
DTSTART;TZID=America/Toronto:20240612T110000
DTEND;TZID=America/Toronto:20240612T140000
DTSTAMP:20260424T123913
CREATED:20240513T143356Z
LAST-MODIFIED:20240528T190851Z
UID:17213-1718190000-1718200800@www.torontohumanesociety.com
SUMMARY:Community Day
DESCRIPTION:Toronto Humane Society’s monthly Community Day is happening on Wednesday\, June 12! 🐾 \nThis event is dedicated to helping community members in need get essential pet supplies like food\, toys\, beds\, clothing\, and more to keep pets and families together. If you need assistance\, come by 11 River Street between 11:00am and 2:00pm. Supplies will be distributed on a first-come\, first-served basis until we run out. 💙🐶🐱 \nRead more about our Community Day program here: Community Day (torontohumanesociety.com)
URL:https://www.torontohumanesociety.com/event/community-day-june2024/
LOCATION:Toronto Humane Society\, 11 River Street\, Toronto\, ON\, M5A 4C2\, Canada
ATTACH;FMTTYPE=image/jpeg:https://www.torontohumanesociety.com/wp-content/uploads/2024/05/IMG_2918-scaled.jpg
END:VEVENT
BEGIN:VEVENT
DTSTART;VALUE=DATE:20240615
DTEND;VALUE=DATE:20240617
DTSTAMP:20260424T123913
CREATED:20240617T113923Z
LAST-MODIFIED:20240617T113923Z
UID:17332-1718409600-1718582399@www.torontohumanesociety.com
SUMMARY:Adoption and Animal Services are Closed
DESCRIPTION:Please note that our adoption and animal services are closed this weekend. If you are interested in adopting a pet\, please click here to see all animals waiting for forever homes. \nThank you for your understanding.
URL:https://www.torontohumanesociety.com/event/adoption-and-animal-services-are-closed/
LOCATION:ON
END:VEVENT
BEGIN:VEVENT
DTSTART;VALUE=DATE:20240625
DTEND;VALUE=DATE:20240626
DTSTAMP:20260424T123913
CREATED:20240521T133200Z
LAST-MODIFIED:20240521T133200Z
UID:17234-1719273600-1719359999@www.torontohumanesociety.com
SUMMARY:TNR Service Is Closed
DESCRIPTION:Please note that our Trap-Neuter-Return (TNR) service is closed today. On the day prior to a closure all TNR cats must arrive before 10 AM.
URL:https://www.torontohumanesociety.com/event/tnr-service-is-closed-2/
LOCATION:Toronto Humane Society\, 11 River Street\, Toronto\, ON\, M5A 4C2\, Canada
END:VEVENT
BEGIN:VEVENT
DTSTART;VALUE=DATE:20240626
DTEND;VALUE=DATE:20240627
DTSTAMP:20260424T123913
CREATED:20240513T143531Z
LAST-MODIFIED:20240513T143550Z
UID:17214-1719360000-1719446399@www.torontohumanesociety.com
SUMMARY:TNR Service Is Closed
DESCRIPTION:Please note that our Trap-Neuter-Return (TNR) service is closed today. On the day prior to a closure all TNR cats must arrive before 10 AM.
URL:https://www.torontohumanesociety.com/event/tnr-service-is-closed/
LOCATION:ON
END:VEVENT
END:VCALENDAR