BEGIN:VCALENDAR
VERSION:2.0
PRODID:-//Toronto Humane Society - ECPv6.9.0//NONSGML v1.0//EN
CALSCALE:GREGORIAN
METHOD:PUBLISH
X-WR-CALNAME:Toronto Humane Society
X-ORIGINAL-URL:https://www.torontohumanesociety.com
X-WR-CALDESC:Events for Toronto Humane Society
REFRESH-INTERVAL;VALUE=DURATION:PT1H
X-Robots-Tag:noindex
X-PUBLISHED-TTL:PT1H
BEGIN:VTIMEZONE
TZID:America/Toronto
BEGIN:DAYLIGHT
TZOFFSETFROM:-0500
TZOFFSETTO:-0400
TZNAME:EDT
DTSTART:20260308T070000
END:DAYLIGHT
BEGIN:STANDARD
TZOFFSETFROM:-0400
TZOFFSETTO:-0500
TZNAME:EST
DTSTART:20261101T060000
END:STANDARD
END:VTIMEZONE
BEGIN:VEVENT
DTSTART;VALUE=DATE:20260924
DTEND;VALUE=DATE:20260925
DTSTAMP:20260419T204901
CREATED:20260304T132957Z
LAST-MODIFIED:20260304T132957Z
UID:19796-1790208000-1790294399@www.torontohumanesociety.com
SUMMARY:Humane Open Golf Tournament
DESCRIPTION: September 24\, 2026 Angus Glen Golf Club 1:30 p.m. Shotgun Tee-Off \nJoin us for a premium golf experience in support of animals in need. The Humane Open brings together compassionate supporters\, corporate partners\, and animal lovers for an unforgettable day on the greens — all in support of Toronto Humane Society’s lifesaving work. \nFor more event details and to RSVP visit humaneopen.ca
URL:https://www.torontohumanesociety.com/event/humane-open-golf-tournament-3/
LOCATION:Angus Glen Golf Course\, 10080 Kennedy Road\, Marhkahm\, Ontario\, L6C 1N9\, Canada
CATEGORIES:Events
END:VEVENT
END:VCALENDAR